{"text_format":"1","workbook":"xlsx","n_sheets":8,"sheets":["In te vullen voorblad","facturen-kosten","loonberek invullen promotor","tijdsregist invullen promotor","waarden lonen","voorbeeld tijdsreg","Voorbeeld loonberek","."],"not_rendered":{"charts":0,"images":2,"macros":1,"external_links":3,"defined_names":33,"comments":4,"pivot_tables":0},"unopened":[],"bounds":{"document_bytes":16777216,"sheet_cells":100000,"rows_first":2000,"rows_last":500,"rows_between":2000,"halvings":0,"cell_chars":16384,"cell_head_chars":4096},"cells_cut":0,"cells_raw":0,"read":"whole","date_system":"1900"}

{"sheet":"In te vullen voorblad","index":0,"n_rows":41,"n_cols":3,"rows_kept":41,"cut":false,"hidden":false,"merged":[[25,2,26,3],[18,2,19,3]]}
[]
[]
[]
[]
[]
[]
["Opgelet","Gelieve dit voorblad in te vullen identiek zoals in het plattelandsloket"]
["Datum aanvraag:",{"$f":"TODAY()","v":"2023-05-31"}]
[]
["Gegevens project"]
[]
["Projectnaam:","……………………………………"]
["Projectcode:","OVL21/P10X"]
["Budgetjaar: ","……………………………………"]
["Overhead% bij personeelskosten",null,"Opgelet: overheadpercentage moet exact gelijk zijn aan het goedgekeurde %"]
[]
["Gegevens projectpromotor"]
[]
["Naam:","XXXXX","Opgelet: de schrijfwijze van de naam van de promotor moet exact overeenkomen met de schrijfwijze in het e-loket"]
["Adres:","……………………………………"]
["Contactpersoon:","……………………………………"]
["Telefoon:","……………………………………"]
["Email:","……………………………………"]
["Rekeningnummer:","……………………………………"]
[]
["(Indien van toepassing) Naam copromotoren invullen",null,"Opgelet: de schrijfwijze van de namen van de copromotoren moet exact overeenkomen met de schrijfwijze in het e-loket"]
[]
["Copromotor 1","……………………………………"]
["Copromotor 2","……………………………………"]
["Copromotor 3","……………………………………"]
["Copromotor 4","……………………………………"]
["Copromotor 5","……………………………………"]
[]
[]
["Ondergetekende, (naam)","……………………………………","projectpromotor van project  (naam project) …………………………....."]
["verklaart hierbij dat bijgevoegde facturen betrekking hebben op projectcode OVL21/P10X…………………….."]
["en dat de aangevraagde subsidie het maximum van de goedgekeurde subsidie niet overschrijdt."]
["De aangevraagde Europese, Vlaamse en provinciale cofinanciering mag uitbetaald worden."]
["Datum"]
[]
["…………………………………………………………."]

{"sheet":"facturen-kosten","index":1,"n_rows":33,"n_cols":14,"rows_kept":33,"cut":false,"hidden":false,"merged":[[33,2,33,7],[0,3,0,5],[1,5,8,8]]}
[null,"Projectnaam",null,{"$f":" 'In te vullen voorblad'!B12","v":"……………………………………"},null,null,null,null,null,"Rubrieken","ingediende kost","Promotor/ copromotor",null,"ingediende kost"]
[null,"Projectpromotor",null,{"$f":"'In te vullen voorblad'!B19","v":"XXXXX"},null,"Toelichting bij het gebruik van de knop 'Facturen Json (bulk)': Door het klikken op deze knop worden de gegevens op dit blad gekopieerd (rij 13 tot einde van tabel). Deze gegevens kunnen met behulp van de toetsencombinatie CTRL+V geplakt worden in het pop-upvenster in het e-loket (bij gebruik van de knop 'Facturen Json (bulk)' in het loket). \nOpgelet: Hiermee worden geen andere tabbladen of gegevens van dit bestand gekopieerd naar het loket. Als de knop niet werkt staat er wellicht bovenaan een opmerking i.v.m. 'inhoud inschakelen' (deze moet eerst ingeschakeld worden) of werkt het niet in deze Excelversie (facturen kunnen dan individueel ingegeven worden in het loket).",null,null,null,{"$f":"'.'!C3","v":"Investeringskosten"},{"$f":"SUMIF(J:J,J2,I:I)","v":0},{"$f":"'In te vullen voorblad'!B19","v":"XXXXX"},null,{"$f":"SUMIF(K:K,L2,I:I)","v":0}]
[null,"Projectnummer",null,{"$f":"'In te vullen voorblad'!B13","v":"OVL21/P10X"},null,null,null,null,null,{"$f":"'.'!C4","v":"Personeelskosten"},0,{"$f":"'In te vullen voorblad'!B28","v":"……………………………………"},null,0]
[null,"Budgetjaar",null,{"$f":" 'In te vullen voorblad'!B14","v":"……………………………………"},null,null,null,null,null,{"$f":"'.'!C5","v":"Werkingskosten"},0,{"$f":"'In te vullen voorblad'!B29","v":"……………………………………"},null,0]
[null,"Overhead%",null,{"$f":"'In te vullen voorblad'!B15","v":0},null,null,null,null,null,{"$f":"'.'!C6","v":"Externe prestaties"},0,{"$f":"'In te vullen voorblad'!B30","v":"……………………………………"},null,0]
[null,null,null,null,null,null,null,null,null,{"$f":"'.'!C7","v":"Bijdrage in natura"},0,{"$f":"'In te vullen voorblad'!B31","v":"……………………………………"},null,0]
[null,null,null,null,null,null,null,null,null,{"$f":"'.'!C8","v":"Inkomsten"},0,{"$f":"'In te vullen voorblad'!B32","v":"……………………………………"},null,0]
[]
[null,null,null,null,null,null,null,null,null,"Totaal",{"$f":"SUM(K2+K3+K4+K5+K6+K7)","v":0}]
[]
["Volgnr ","Boekhoud- kundig nummer van de factuur","Naam leverancier /                                                                       naam personeelslid","Onderwerp van de uitgave                                        ","FactuurDatum / Periode start","Periode einddatum","TotaalBedrag","Percentage dat het bedrag meetelt","Aangevraagd project-bedrag","rubriek ( in te vullen door een rubriek te selecteren , niet manueel intypen!!)","Aan wie is de factuur gericht promotor of copromotoren? (naam (co-)promotor selecteren of blanco indien promotor)","% Cofinanciering (max 65%)","totale cofinanc (totale overheidssteun)","Overhead Bedrag"]
["VolgNummer","BoekhoudkundigNummer","Leverancier","Onderwerp","FactuurPeriodeStartString","FactuurPeriodeEindString","TotaalBedrag","MeetelPercentage","AangevraagdProjectbedrag","KostenCategorie","Promotor","CofinancieringPercentage","TotaleCofinanciering","OverheadBedrag"]
[null,null,null,null,null,null,null,null,{"$f":"G13*H13","v":0},null,null,null,{"$f":"I13*L13","v":0},{"$f":"IF(J13=\"Personeelskosten\",M13*D$5%,0)","v":0}]
[null,null,null,null,null,null,null,null,0,null,null,null,{"$f":"I14*L14","v":0},{"$f":"IF(J14=\"Personeelskosten\",M14*D$5%,0)","v":0}]
[null,null,null,null,null,null,null,null,0,null,null,null,0,0]
[null,null,null,null,null,null,null,null,0,null,null,null,0,0]
[null,null,null,null,null,null,null,null,0,null,null,null,{"$f":"I17*L17","v":0},{"$f":"IF(J17=\"Personeelskosten\",M17*D$5%,0)","v":0}]
[null,null,null,null,null,null,null,null,0,null,null,null,0,0]
[null,null,null,null,null,null,null,null,0,null,null,null,{"$f":"I19*L19","v":0},{"$f":"IF(J19=\"Personeelskosten\",M19*D$5%,0)","v":0}]
[null,null,null,null,null,null,null,null,0,null,null,null,0,0]
[null,null,null,null,null,null,null,null,0,null,null,null,0,0]
[null,null,null,null,null,null,null,null,0,null,null,null,0,0]
[null,null,null,null,null,null,null,null,0,null,null,null,{"$f":"I23*L23","v":0},{"$f":"IF(J23=\"Personeelskosten\",M23*D$5%,0)","v":0}]
[null,null,null,null,null,null,null,null,0,null,null,null,0,0]
[null,null,null,null,null,null,null,null,0,null,null,null,0,0]
[null,null,null,null,null,null,null,null,0,null,null,null,0,0]
[null,null,null,null,null,null,null,null,0,null,null,null,0,0]
[null,null,null,null,null,null,null,null,0,null,null,null,0,0]
[null,null,null,null,null,null,null,null,0,null,null,null,0,0]
[null,null,null,null,null,null,null,null,0,null,null,null,0,0]
[null,null,null,null,null,null,null,null,0,null,null,null,0,0]
[null,null,null,null,null,null,null,null,0,null,null,null,0,0]
["Totaal",null,null,null,null,null,{"$f":"SUM(G13:G32)","v":0},null,{"$f":"SUM(I13:I32)","v":0},null,null,null,{"$f":"SUM(M13:M32)","v":0},{"$f":"SUM(N13:N32)","v":0}]

{"sheet":"loonberek invullen promotor","index":2,"n_rows":60,"n_cols":8,"rows_kept":60,"cut":false,"hidden":false,"merged":[[51,0,51,6],[59,0,59,6],[6,1,6,2],[7,1,7,7],[19,0,19,6],[27,0,27,6],[35,0,35,6],[43,0,43,6]]}
["Sjabloon loonberekening"]
[]
[]
[]
[]
[]
["Projectcode",{"$f":" 'In te vullen voorblad'!B13","v":"OVL21/P10X"}]
["Naam van het project",{"$f":" 'In te vullen voorblad'!B12","v":"……………………………………"}]
[]
["Het donkergroene vak overnemen in het tabblad facturen "]
["Naam personeelslid","Voltijds brutoloon (5/5)","De overeenkomstige dagkost","Looncode","Indien de looncode gekend is , vul die hier in","maand + jaartal","aantal halve dagen in die maand gewerkt aan het project","In te brengen personeelskost"]
[]
[null,null,{"$f":"IF(E13=0,+IF(B13=\"\",\"\",+IF(B13<=2329.88,206.77,IF(B13>2329.88,VLOOKUP(B13,'waarden lonen'!C:K,9,TRUE)))),VLOOKUP(E13,'waarden lonen'!loonwijzer,11))","v":""},{"$f":"IF(E13=0,+IF(C13=\"\",\"\",VLOOKUP(C13,'waarden lonen'!K:L,2,FALSE)),\"\")","v":""},null,null,null,{"$f":"+IF(C13=\"\",\"\",(G13/2)*C13)","v":""}]
[null,null,{"$f":"IF(E14=0,+IF(B14=\"\",\"\",+IF(B14<=2329.88,206.77,IF(B14>2329.88,VLOOKUP(B14,'waarden lonen'!C:K,9,TRUE)))),VLOOKUP(E14,'waarden lonen'!loonwijzer,11))","v":""},{"$f":"IF(E14=0,+IF(C14=\"\",\"\",VLOOKUP(C14,'waarden lonen'!K:L,2,FALSE)),\"\")","v":""},null,null,null,{"$f":"+IF(C14=\"\",\"\",(G14/2)*C14)","v":""}]
[null,null,{"$f":"IF(E15=0,+IF(B15=\"\",\"\",+IF(B15<=2329.88,206.77,IF(B15>2329.88,VLOOKUP(B15,'waarden lonen'!C:K,9,TRUE)))),VLOOKUP(E15,'waarden lonen'!loonwijzer,11))","v":""},{"$f":"IF(E15=0,+IF(C15=\"\",\"\",VLOOKUP(C15,'waarden lonen'!K:L,2,FALSE)),\"\")","v":""},null,null,null,""]
[null,null,{"$f":"IF(E16=0,+IF(B16=\"\",\"\",+IF(B16<=2329.88,206.77,IF(B16>2329.88,VLOOKUP(B16,'waarden lonen'!C:K,9,TRUE)))),VLOOKUP(E16,'waarden lonen'!loonwijzer,11))","v":""},{"$f":"IF(E16=0,+IF(C16=\"\",\"\",VLOOKUP(C16,'waarden lonen'!K:L,2,FALSE)),\"\")","v":""},null,null,null,""]
[null,null,{"$f":"IF(E17=0,+IF(B17=\"\",\"\",+IF(B17<=2329.88,206.77,IF(B17>2329.88,VLOOKUP(B17,'waarden lonen'!C:K,9,TRUE)))),VLOOKUP(E17,'waarden lonen'!loonwijzer,11))","v":""},{"$f":"IF(E17=0,+IF(C17=\"\",\"\",VLOOKUP(C17,'waarden lonen'!K:L,2,FALSE)),\"\")","v":""},null,null,null,""]
[null,null,{"$f":"IF(E18=0,+IF(B18=\"\",\"\",+IF(B18<=2329.88,206.77,IF(B18>2329.88,VLOOKUP(B18,'waarden lonen'!C:K,9,TRUE)))),VLOOKUP(E18,'waarden lonen'!loonwijzer,11))","v":""},{"$f":"IF(E18=0,+IF(C18=\"\",\"\",VLOOKUP(C18,'waarden lonen'!K:L,2,FALSE)),\"\")","v":""},null,null,null,""]
[null,null,{"$f":"IF(E19=0,+IF(B19=\"\",\"\",+IF(B19<=2329.88,206.77,IF(B19>2329.88,VLOOKUP(B19,'waarden lonen'!C:K,9,TRUE)))),VLOOKUP(E19,'waarden lonen'!loonwijzer,11))","v":""},{"$f":"IF(E19=0,+IF(C19=\"\",\"\",VLOOKUP(C19,'waarden lonen'!K:L,2,FALSE)),\"\")","v":""},null,null,null,""]
["Totale loonkost - het totaal bedrag per persoon overnemen in de overzichtslijst met facturen / kosten",null,null,null,null,null,null,{"$f":"SUM(H13:H19)","v":0}]
[null,null,{"$f":"IF(E21=0,+IF(B21=\"\",\"\",+IF(B21<=2329.88,206.77,IF(B21>2329.88,VLOOKUP(B21,'waarden lonen'!C:K,9,TRUE)))),VLOOKUP(E21,'waarden lonen'!loonwijzer,11))","v":""},{"$f":"IF(E21=0,+IF(C21=\"\",\"\",VLOOKUP(C21,'waarden lonen'!K:L,2,FALSE)),\"\")","v":""},null,null,null,{"$f":"+IF(C21=\"\",\"\",(G21/2)*C21)","v":""}]
[null,null,{"$f":"IF(E22=0,+IF(B22=\"\",\"\",+IF(B22<=2329.88,206.77,IF(B22>2329.88,VLOOKUP(B22,'waarden lonen'!C:K,9,TRUE)))),VLOOKUP(E22,'waarden lonen'!loonwijzer,11))","v":""},{"$f":"IF(E22=0,+IF(C22=\"\",\"\",VLOOKUP(C22,'waarden lonen'!K:L,2,FALSE)),\"\")","v":""},null,null,null,""]
[null,null,{"$f":"IF(E23=0,+IF(B23=\"\",\"\",+IF(B23<=2329.88,206.77,IF(B23>2329.88,VLOOKUP(B23,'waarden lonen'!C:K,9,TRUE)))),VLOOKUP(E23,'waarden lonen'!loonwijzer,11))","v":""},{"$f":"IF(E23=0,+IF(C23=\"\",\"\",VLOOKUP(C23,'waarden lonen'!K:L,2,FALSE)),\"\")","v":""},null,null,null,""]
[null,null,{"$f":"IF(E24=0,+IF(B24=\"\",\"\",+IF(B24<=2329.88,206.77,IF(B24>2329.88,VLOOKUP(B24,'waarden lonen'!C:K,9,TRUE)))),VLOOKUP(E24,'waarden lonen'!loonwijzer,11))","v":""},{"$f":"IF(E24=0,+IF(C24=\"\",\"\",VLOOKUP(C24,'waarden lonen'!K:L,2,FALSE)),\"\")","v":""},null,null,null,""]
[null,null,{"$f":"IF(E25=0,+IF(B25=\"\",\"\",+IF(B25<=2329.88,206.77,IF(B25>2329.88,VLOOKUP(B25,'waarden lonen'!C:K,9,TRUE)))),VLOOKUP(E25,'waarden lonen'!loonwijzer,11))","v":""},{"$f":"IF(E25=0,+IF(C25=\"\",\"\",VLOOKUP(C25,'waarden lonen'!K:L,2,FALSE)),\"\")","v":""},null,null,null,""]
[null,null,{"$f":"IF(E26=0,+IF(B26=\"\",\"\",+IF(B26<=2329.88,206.77,IF(B26>2329.88,VLOOKUP(B26,'waarden lonen'!C:K,9,TRUE)))),VLOOKUP(E26,'waarden lonen'!loonwijzer,11))","v":""},{"$f":"IF(E26=0,+IF(C26=\"\",\"\",VLOOKUP(C26,'waarden lonen'!K:L,2,FALSE)),\"\")","v":""},null,null,null,""]
[null,null,{"$f":"IF(E27=0,+IF(B27=\"\",\"\",+IF(B27<=2329.88,206.77,IF(B27>2329.88,VLOOKUP(B27,'waarden lonen'!C:K,9,TRUE)))),VLOOKUP(E27,'waarden lonen'!loonwijzer,11))","v":""},{"$f":"IF(E27=0,+IF(C27=\"\",\"\",VLOOKUP(C27,'waarden lonen'!K:L,2,FALSE)),\"\")","v":""},null,null,null,""]
["Totale loonkost - het totaal bedrag per persoon overnemen in de overzichtslijst met facturen / kosten",null,null,null,null,null,null,{"$f":"SUM(H21:H27)","v":0}]
[null,null,{"$f":"IF(E29=0,+IF(B29=\"\",\"\",+IF(B29<=2329.88,206.77,IF(B29>2329.88,VLOOKUP(B29,'waarden lonen'!C:K,9,TRUE)))),VLOOKUP(E29,'waarden lonen'!loonwijzer,11))","v":""},{"$f":"IF(E29=0,+IF(C29=\"\",\"\",VLOOKUP(C29,'waarden lonen'!K:L,2,FALSE)),\"\")","v":""},null,null,null,{"$f":"+IF(C29=\"\",\"\",(G29/2)*C29)","v":""}]
[null,null,{"$f":"IF(E30=0,+IF(B30=\"\",\"\",+IF(B30<=2329.88,206.77,IF(B30>2329.88,VLOOKUP(B30,'waarden lonen'!C:K,9,TRUE)))),VLOOKUP(E30,'waarden lonen'!loonwijzer,11))","v":""},{"$f":"IF(E30=0,+IF(C30=\"\",\"\",VLOOKUP(C30,'waarden lonen'!K:L,2,FALSE)),\"\")","v":""},null,null,null,""]
[null,null,{"$f":"IF(E31=0,+IF(B31=\"\",\"\",+IF(B31<=2329.88,206.77,IF(B31>2329.88,VLOOKUP(B31,'waarden lonen'!C:K,9,TRUE)))),VLOOKUP(E31,'waarden lonen'!loonwijzer,11))","v":""},{"$f":"IF(E31=0,+IF(C31=\"\",\"\",VLOOKUP(C31,'waarden lonen'!K:L,2,FALSE)),\"\")","v":""},null,null,null,""]
[null,null,{"$f":"IF(E32=0,+IF(B32=\"\",\"\",+IF(B32<=2329.88,206.77,IF(B32>2329.88,VLOOKUP(B32,'waarden lonen'!C:K,9,TRUE)))),VLOOKUP(E32,'waarden lonen'!loonwijzer,11))","v":""},{"$f":"IF(E32=0,+IF(C32=\"\",\"\",VLOOKUP(C32,'waarden lonen'!K:L,2,FALSE)),\"\")","v":""},null,null,null,""]
[null,null,{"$f":"IF(E33=0,+IF(B33=\"\",\"\",+IF(B33<=2329.88,206.77,IF(B33>2329.88,VLOOKUP(B33,'waarden lonen'!C:K,9,TRUE)))),VLOOKUP(E33,'waarden lonen'!loonwijzer,11))","v":""},{"$f":"IF(E33=0,+IF(C33=\"\",\"\",VLOOKUP(C33,'waarden lonen'!K:L,2,FALSE)),\"\")","v":""},null,null,null,""]
[null,null,{"$f":"IF(E34=0,+IF(B34=\"\",\"\",+IF(B34<=2329.88,206.77,IF(B34>2329.88,VLOOKUP(B34,'waarden lonen'!C:K,9,TRUE)))),VLOOKUP(E34,'waarden lonen'!loonwijzer,11))","v":""},{"$f":"IF(E34=0,+IF(C34=\"\",\"\",VLOOKUP(C34,'waarden lonen'!K:L,2,FALSE)),\"\")","v":""},null,null,null,""]
[null,null,{"$f":"IF(E35=0,+IF(B35=\"\",\"\",+IF(B35<=2329.88,206.77,IF(B35>2329.88,VLOOKUP(B35,'waarden lonen'!C:K,9,TRUE)))),VLOOKUP(E35,'waarden lonen'!loonwijzer,11))","v":""},{"$f":"IF(E35=0,+IF(C35=\"\",\"\",VLOOKUP(C35,'waarden lonen'!K:L,2,FALSE)),\"\")","v":""},null,null,null,""]
["Totale loonkost - het totaal bedrag per persoon overnemen in de overzichtslijst met facturen / kosten",null,null,null,null,null,null,{"$f":"SUM(H29:H35)","v":0}]
[null,null,{"$f":"IF(E37=0,+IF(B37=\"\",\"\",+IF(B37<=2329.88,206.77,IF(B37>2329.88,VLOOKUP(B37,'waarden lonen'!C:K,9,TRUE)))),VLOOKUP(E37,'waarden lonen'!loonwijzer,11))","v":""},{"$f":"IF(E37=0,+IF(C37=\"\",\"\",VLOOKUP(C37,'waarden lonen'!K:L,2,FALSE)),\"\")","v":""},null,null,null,{"$f":"+IF(C37=\"\",\"\",(G37/2)*C37)","v":""}]
[null,null,{"$f":"IF(E38=0,+IF(B38=\"\",\"\",+IF(B38<=2329.88,206.77,IF(B38>2329.88,VLOOKUP(B38,'waarden lonen'!C:K,9,TRUE)))),VLOOKUP(E38,'waarden lonen'!loonwijzer,11))","v":""},{"$f":"IF(E38=0,+IF(C38=\"\",\"\",VLOOKUP(C38,'waarden lonen'!K:L,2,FALSE)),\"\")","v":""},null,null,null,""]
[null,null,{"$f":"IF(E39=0,+IF(B39=\"\",\"\",+IF(B39<=2329.88,206.77,IF(B39>2329.88,VLOOKUP(B39,'waarden lonen'!C:K,9,TRUE)))),VLOOKUP(E39,'waarden lonen'!loonwijzer,11))","v":""},{"$f":"IF(E39=0,+IF(C39=\"\",\"\",VLOOKUP(C39,'waarden lonen'!K:L,2,FALSE)),\"\")","v":""},null,null,null,""]
[null,null,{"$f":"IF(E40=0,+IF(B40=\"\",\"\",+IF(B40<=2329.88,206.77,IF(B40>2329.88,VLOOKUP(B40,'waarden lonen'!C:K,9,TRUE)))),VLOOKUP(E40,'waarden lonen'!loonwijzer,11))","v":""},{"$f":"IF(E40=0,+IF(C40=\"\",\"\",VLOOKUP(C40,'waarden lonen'!K:L,2,FALSE)),\"\")","v":""},null,null,null,""]
[null,null,{"$f":"IF(E41=0,+IF(B41=\"\",\"\",+IF(B41<=2329.88,206.77,IF(B41>2329.88,VLOOKUP(B41,'waarden lonen'!C:K,9,TRUE)))),VLOOKUP(E41,'waarden lonen'!loonwijzer,11))","v":""},{"$f":"IF(E41=0,+IF(C41=\"\",\"\",VLOOKUP(C41,'waarden lonen'!K:L,2,FALSE)),\"\")","v":""},null,null,null,""]
[null,null,{"$f":"IF(E42=0,+IF(B42=\"\",\"\",+IF(B42<=2329.88,206.77,IF(B42>2329.88,VLOOKUP(B42,'waarden lonen'!C:K,9,TRUE)))),VLOOKUP(E42,'waarden lonen'!loonwijzer,11))","v":""},{"$f":"IF(E42=0,+IF(C42=\"\",\"\",VLOOKUP(C42,'waarden lonen'!K:L,2,FALSE)),\"\")","v":""},null,null,null,""]
[null,null,{"$f":"IF(E43=0,+IF(B43=\"\",\"\",+IF(B43<=2329.88,206.77,IF(B43>2329.88,VLOOKUP(B43,'waarden lonen'!C:K,9,TRUE)))),VLOOKUP(E43,'waarden lonen'!loonwijzer,11))","v":""},{"$f":"IF(E43=0,+IF(C43=\"\",\"\",VLOOKUP(C43,'waarden lonen'!K:L,2,FALSE)),\"\")","v":""},null,null,null,""]
["Totale loonkost - het totaal bedrag per persoon overnemen in de overzichtslijst met facturen / kosten",null,null,null,null,null,null,{"$f":"SUM(H37:H43)","v":0}]
[null,null,{"$f":"IF(E45=0,+IF(B45=\"\",\"\",+IF(B45<=2329.88,206.77,IF(B45>2329.88,VLOOKUP(B45,'waarden lonen'!C:K,9,TRUE)))),VLOOKUP(E45,'waarden lonen'!loonwijzer,11))","v":""},{"$f":"IF(E45=0,+IF(C45=\"\",\"\",VLOOKUP(C45,'waarden lonen'!K:L,2,FALSE)),\"\")","v":""},null,null,null,{"$f":"+IF(C45=\"\",\"\",(G45/2)*C45)","v":""}]
[null,null,{"$f":"IF(E46=0,+IF(B46=\"\",\"\",+IF(B46<=2329.88,206.77,IF(B46>2329.88,VLOOKUP(B46,'waarden lonen'!C:K,9,TRUE)))),VLOOKUP(E46,'waarden lonen'!loonwijzer,11))","v":""},{"$f":"IF(E46=0,+IF(C46=\"\",\"\",VLOOKUP(C46,'waarden lonen'!K:L,2,FALSE)),\"\")","v":""},null,null,null,""]
[null,null,{"$f":"IF(E47=0,+IF(B47=\"\",\"\",+IF(B47<=2329.88,206.77,IF(B47>2329.88,VLOOKUP(B47,'waarden lonen'!C:K,9,TRUE)))),VLOOKUP(E47,'waarden lonen'!loonwijzer,11))","v":""},{"$f":"IF(E47=0,+IF(C47=\"\",\"\",VLOOKUP(C47,'waarden lonen'!K:L,2,FALSE)),\"\")","v":""},null,null,null,""]
[null,null,{"$f":"IF(E48=0,+IF(B48=\"\",\"\",+IF(B48<=2329.88,206.77,IF(B48>2329.88,VLOOKUP(B48,'waarden lonen'!C:K,9,TRUE)))),VLOOKUP(E48,'waarden lonen'!loonwijzer,11))","v":""},{"$f":"IF(E48=0,+IF(C48=\"\",\"\",VLOOKUP(C48,'waarden lonen'!K:L,2,FALSE)),\"\")","v":""},null,null,null,""]
[null,null,{"$f":"IF(E49=0,+IF(B49=\"\",\"\",+IF(B49<=2329.88,206.77,IF(B49>2329.88,VLOOKUP(B49,'waarden lonen'!C:K,9,TRUE)))),VLOOKUP(E49,'waarden lonen'!loonwijzer,11))","v":""},{"$f":"IF(E49=0,+IF(C49=\"\",\"\",VLOOKUP(C49,'waarden lonen'!K:L,2,FALSE)),\"\")","v":""},null,null,null,""]
[null,null,{"$f":"IF(E50=0,+IF(B50=\"\",\"\",+IF(B50<=2329.88,206.77,IF(B50>2329.88,VLOOKUP(B50,'waarden lonen'!C:K,9,TRUE)))),VLOOKUP(E50,'waarden lonen'!loonwijzer,11))","v":""},{"$f":"IF(E50=0,+IF(C50=\"\",\"\",VLOOKUP(C50,'waarden lonen'!K:L,2,FALSE)),\"\")","v":""},null,null,null,""]
[null,null,{"$f":"IF(E51=0,+IF(B51=\"\",\"\",+IF(B51<=2329.88,206.77,IF(B51>2329.88,VLOOKUP(B51,'waarden lonen'!C:K,9,TRUE)))),VLOOKUP(E51,'waarden lonen'!loonwijzer,11))","v":""},{"$f":"IF(E51=0,+IF(C51=\"\",\"\",VLOOKUP(C51,'waarden lonen'!K:L,2,FALSE)),\"\")","v":""},null,null,null,""]
["Totale loonkost - het totaal bedrag per persoon overnemen in de overzichtslijst met facturen / kosten",null,null,null,null,null,null,{"$f":"SUM(H45:H51)","v":0}]
[null,null,{"$f":"IF(E53=0,+IF(B53=\"\",\"\",+IF(B53<=2329.88,206.77,IF(B53>2329.88,VLOOKUP(B53,'waarden lonen'!C:K,9,TRUE)))),VLOOKUP(E53,'waarden lonen'!loonwijzer,11))","v":""},{"$f":"IF(E53=0,+IF(C53=\"\",\"\",VLOOKUP(C53,'waarden lonen'!K:L,2,FALSE)),\"\")","v":""},null,null,null,{"$f":"+IF(C53=\"\",\"\",(G53/2)*C53)","v":""}]
[null,null,{"$f":"IF(E54=0,+IF(B54=\"\",\"\",+IF(B54<=2329.88,206.77,IF(B54>2329.88,VLOOKUP(B54,'waarden lonen'!C:K,9,TRUE)))),VLOOKUP(E54,'waarden lonen'!loonwijzer,11))","v":""},{"$f":"IF(E54=0,+IF(C54=\"\",\"\",VLOOKUP(C54,'waarden lonen'!K:L,2,FALSE)),\"\")","v":""},null,null,null,""]
[null,null,{"$f":"IF(E55=0,+IF(B55=\"\",\"\",+IF(B55<=2329.88,206.77,IF(B55>2329.88,VLOOKUP(B55,'waarden lonen'!C:K,9,TRUE)))),VLOOKUP(E55,'waarden lonen'!loonwijzer,11))","v":""},{"$f":"IF(E55=0,+IF(C55=\"\",\"\",VLOOKUP(C55,'waarden lonen'!K:L,2,FALSE)),\"\")","v":""},null,null,null,""]
[null,null,{"$f":"IF(E56=0,+IF(B56=\"\",\"\",+IF(B56<=2329.88,206.77,IF(B56>2329.88,VLOOKUP(B56,'waarden lonen'!C:K,9,TRUE)))),VLOOKUP(E56,'waarden lonen'!loonwijzer,11))","v":""},{"$f":"IF(E56=0,+IF(C56=\"\",\"\",VLOOKUP(C56,'waarden lonen'!K:L,2,FALSE)),\"\")","v":""},null,null,null,""]
[null,null,{"$f":"IF(E57=0,+IF(B57=\"\",\"\",+IF(B57<=2329.88,206.77,IF(B57>2329.88,VLOOKUP(B57,'waarden lonen'!C:K,9,TRUE)))),VLOOKUP(E57,'waarden lonen'!loonwijzer,11))","v":""},{"$f":"IF(E57=0,+IF(C57=\"\",\"\",VLOOKUP(C57,'waarden lonen'!K:L,2,FALSE)),\"\")","v":""},null,null,null,""]
[null,null,{"$f":"IF(E58=0,+IF(B58=\"\",\"\",+IF(B58<=2329.88,206.77,IF(B58>2329.88,VLOOKUP(B58,'waarden lonen'!C:K,9,TRUE)))),VLOOKUP(E58,'waarden lonen'!loonwijzer,11))","v":""},{"$f":"IF(E58=0,+IF(C58=\"\",\"\",VLOOKUP(C58,'waarden lonen'!K:L,2,FALSE)),\"\")","v":""},null,null,null,""]
[null,null,{"$f":"IF(E59=0,+IF(B59=\"\",\"\",+IF(B59<=2329.88,206.77,IF(B59>2329.88,VLOOKUP(B59,'waarden lonen'!C:K,9,TRUE)))),VLOOKUP(E59,'waarden lonen'!loonwijzer,11))","v":""},{"$f":"IF(E59=0,+IF(C59=\"\",\"\",VLOOKUP(C59,'waarden lonen'!K:L,2,FALSE)),\"\")","v":""},null,null,null,""]
["Totale loonkost - het totaal bedrag per persoon overnemen in de overzichtslijst met facturen / kosten",null,null,null,null,null,null,{"$f":"SUM(H53:H59)","v":0}]

{"sheet":"tijdsregist invullen promotor","index":3,"n_rows":53,"n_cols":5,"rows_kept":53,"cut":false,"hidden":false,"merged":[[2,1,2,2],[3,1,3,4],[8,1,8,4]]}
["Sjabloon tijdsregistratie"]
[]
["Projectcode",{"$f":"'In te vullen voorblad'!B13","v":"OVL21/P10X"}]
["Naam van het project",{"$f":"'In te vullen voorblad'!B12","v":"……………………………………"}]
[]
["Per personeelslid een sjabloon invullen."]
[]
["Enkel de groene velden invullen"]
["Naam personeelslid"]
[]
["Korte omschrijving werkzaamheden per halve dag invullen","dag","maand","jaartal","1= halve dag PDPO  0=niet PDPO"]
[]
[]
[]
[]
[]
[]
[]
[]
[]
[]
[]
[]
[]
[]
[]
[]
[]
[]
[]
[]
[]
[]
[]
[]
[]
[]
[]
[]
[]
[]
[]
[]
[]
[]
[]
[]
[]
[]
[]
[]
[]
["Totaal aantal halve dagen gewerkt voor deze  maand ",null,null,null,{"$f":"SUM(E13:E52)","v":0}]

{"sheet":"waarden lonen","index":4,"n_rows":30,"n_cols":12,"rows_kept":30,"cut":false,"hidden":false,"merged":[]}
["Standaard loontabel PDPO III te gebruiken vanaf 1 januari 2023"]
["Deze code gebruiken om in te vullen",null,"om te vergelijken met de loonfiche",null,null,null,null,null,null,null,"Kosten om te gebruiken bij declaratie (verlof, ziekte reeds verrekend in de dagkost)"]
["Loon-code","Wedde","Bruto maand-loon","Vakantie-geld ","Einde-jaars-premie","RSZ werkgever","Verzekering AO","Onkosten (weg - werk + thuiswerkvergoeding)","Maaltijd-cheques","Jaarkost","Dagkost","Loon-code"]
["A001",27958.6,2329.8833333333332,1957.44,1879.75,9142.4704399999991,177.05485661499998,855.66,1451.1,43422.075296615003,206.77,"A001"]
["A002",30918.45,2576.5374999999999,2156.96,2071.35,10108.074720000001,195.71473305999999,855.66,1451.1,47757.309453059999,227.42,"A002"]
["A003",32538.37,2711.5308333333332,2266.16,2176.2199999999998,10636.550375999999,205.927306375,855.66,1451.1,50129.987682375002,238.71,"A003"]
["A004",33358.33,2779.8608333333336,2285.04,2194.35,10893.341152000001,210.69934382,855.66,1451.1,51248.520495820005,244.04,"A004"]
["A005",34378.28,2864.8566666666666,2353.79,2260.37,11226.08236,217.12940214,855.66,1451.1,52742.411762140007,251.15,"A005"]
["A006",36418.18,3034.8483333333334,2491.3000000000002,2392.42,11891.56784,229.98963014999998,855.66,1451.1,55730.217470149997,265.38,"A006"]
["A007",37858.11,3154.8425000000002,2551.9699999999998,2450.6799999999998,12350.613256000001,238.67014205999999,855.66,1451.1,57756.803398060008,275.02999999999997,"A007"]
["A008",39378.03,3281.5025000000001,2654.42,2549.0700000000002,12846.46344,248.25219411999996,855.66,1451.1,59982.995634120001,285.63,"A008"]
["A009",42537.87,3544.8225000000002,2867.42,2753.62,13877.312536000001,268.17289033499998,855.66,1451.1,64611.155426335004,307.67,"A009"]
["A010",44057.8,3671.4833333333336,2969.88,2852.01,14373.165784000003,277.75505376500001,855.66,1451.1,66837.370837765018,318.27,"A010"]
["A011",45057.75,3754.8125,3037.29,2683.56,14627.937383999999,282.76063409999995,855.66,1451.1,67996.058018100011,323.79000000000002,"A011"]
["A012",46557.67,3879.8058333333333,3138.39,2772.9,15114.886648,292.17340375999999,855.66,1451.1,70182.780051760012,334.2,"A012"]
["A013",48057.599999999999,4004.7999999999997,3239.5,2862.23,15601.835912,301.58622910499997,855.66,1451.1,72369.512141105006,344.62,"A013"]
["A014",49457.53,4121.4608333333335,3333.87,2945.61,16056.322096,310.37154018500001,855.66,1451.1,74410.463636185013,354.34,"A014"]
["A015",52557.37,4379.7808333333332,3542.83,3130.23,17062.680640000002,329.82464945500004,855.66,1451.1,78929.69528945502,375.86,"A015"]
["A016",55557.22,4629.7683333333334,3745.04,3308.9,18036.579168,348.65024446000001,855.66,1451.1,83303.149412460014,396.68,"A016"]
["A017",58557.07,4879.7558333333336,3947.26,3487.56,19010.474632000001,367.47583946499998,855.66,1451.1,87676.600471465004,417.51,"A017"]
["A018",61456.93,5121.4108333333334,4142.7299999999996,3660.27,19951.910079999998,385.673920205,855.66,1451.1,91904.274000205012,437.64,"A018"]
["A019",62556.87,5213.0725000000002,4216.88,3725.78,20309.003960000002,392.57663280499997,855.66,1451.1,93507.870592805004,445.28,"A019"]
["A020",64556.77,5379.7308333333331,4351.6899999999996,3844.89,20958.268624,405.12702947499992,855.66,1451.1,96423.505653475004,459.16,"A020"]
["A021",66556.67,5546.3891666666668,4486.5,3964,21607.533287999999,417.67742614499997,855.66,1451.1,99339.140714145004,473.04,"A021"]
["A022",67056.649999999994,5588.0541666666659,4520.2,3993.78,21769.851751999999,420.81505315499993,855.66,1451.1,100068.05680515501,476.51,"A022"]
["A023",69556.52,5796.376666666667,4688.72,4142.67,22581.431816,436.503076835,855.66,1451.1,103712.60489283501,493.87,"A023"]
["A024",72556.37,6046.3641666666663,4890.93,4321.34,23555.330343999998,455.32867183999991,855.66,1451.1,108086.05901584,514.70000000000005,"A024"]
["A025",75556.22,6296.3516666666665,5093.1499999999996,4500,24529.225807999999,474.15426684499994,855.66,1451.1,112459.51007484501,535.52,"A025"]
["A026",78556.070000000007,6546.3391666666676,5295.37,4678.67,25503.124336000001,492.97991753499997,855.66,1451.1,116832.97425353501,556.35,"A026"]
["A027",81555.92,6796.3266666666668,5497.58,4857.33,26477.019800000002,511.80545685499999,855.66,1451.1,121206.41525685501,577.16999999999996,"A027"]

{"sheet":"voorbeeld tijdsreg","index":5,"n_rows":53,"n_cols":5,"rows_kept":53,"cut":false,"hidden":false,"merged":[[2,1,2,2],[3,1,3,4],[8,1,8,4]]}
["Sjabloon tijdsregistratie"]
[]
["Projectcode",{"$f":" 'In te vullen voorblad'!B13","v":"OVL21/P10X"}]
["Naam van het project",{"$f":" 'In te vullen voorblad'!B12","v":"……………………………………"}]
[]
["Per personeelslid een sjabloon invullen."]
[]
["Enkel de groene velden invullen"]
["Naam personeelslid","Mevr. Christine Janssens"]
[]
["Korte omschrijving werkzaamheden per halve dag invullen","dag","maand","jaartal","1= halve dag PDPO  0=niet PDPO"]
[]
["leveranciers zoeken voor de restauratie",2,"februari",2020,1]
["bezoek aan de te restaureren bakoven",2,"februari",2020,1]
["verlof",3,"februari",2020,0]
["verlof",3,"februari",2020,0]
["niet PDPO ",4,"februari",2020,0]
["niet PDPO ",4,"februari",2020,0]
["verminderde prestaties",5,"februari",2020,0]
["verminderde prestaties",5,"februari",2020,0]
["PDPO project - leveranciers zoeken restauratie",6,"februari",2020,1]
["niet PDPO ",6,"februari",2020,0]
["niet PDPO ",9,"februari",2020,0]
["niet PDPO ",9,"februari",2020,0]
["verlof",10,"februari",2020,0]
["verlof",10,"februari",2020,0]
["verminderde prestaties",11,"februari",2020,0]
["verminderde prestaties",11,"februari",2020,0]
["PDPO project - contact met leveranciers voor de restauratie",12,"februari",2020,1]
["PDPO project - contact met leveranciers voor de restauratie",12,"februari",2020,1]
["PDPO project - contact met leveranciers voor de restauratie",13,"februari",2020,1]
["PDPO project - contact met leveranciers voor de restauratie",13,"februari",2020,1]
["PDPO project - voorbereiding restauratie",16,"februari",2020,1]
["PDPO project - voorbereiding restauratie",16,"februari",2020,1]
["PDPO project - voorbereiding restauratie",17,"februari",2020,1]
["niet PDPO ",17,"februari",2020,0]
["verminderde prestaties",18,"februari",2020,0]
["verminderde prestaties",18,"februari",2020,0]
["niet PDPO ",19,"februari",2020,0]
["niet PDPO ",19,"februari",2020,0]
["niet PDPO ",20,"februari",2020,0]
["PDPO project - voorbereiding restauratie bakoven",20,"februari",2020,1]
["PDPO project - voorbereiding restauratie",23,"februari",2020,1]
["PDPO project - voorbereiding restauratie",23,"februari",2020,1]
["niet PDPO ",24,"februari",2020,0]
["niet PDPO ",24,"februari",2020,0]
["verminderde prestaties",25,"februari",2020,0]
["verminderde prestaties",25,"februari",2020,0]
["niet PDPO ",26,"februari",2020,0]
["niet PDPO ",26,"februari",2020,0]
["Ziekte",27,"februari",2020,0]
["Ziekte",27,"februari",2020,0]
["Totaal aantal halve dagen gewerkt voor deze  maand ",null,null,null,{"$f":"SUM(E13:E52)","v":13}]

{"sheet":"Voorbeeld loonberek","index":6,"n_rows":65,"n_cols":9,"rows_kept":65,"cut":false,"hidden":false,"merged":[[67,1,67,7],[68,1,68,7],[51,0,51,6],[60,0,60,6],[63,1,63,7],[64,1,64,7],[65,1,65,7],[66,1,66,7],[43,0,43,6],[3,1,3,2],[4,1,4,7],[18,0,18,6],[26,0,26,6],[35,0,35,6]]}
["Sjabloon loonberekening"]
[]
[]
["Projectcode",{"$f":" 'In te vullen voorblad'!B13","v":"OVL21/P10X"}]
["Naam van het project",{"$f":" 'In te vullen voorblad'!B12","v":"……………………………………"}]
["Per persoon: de naam - brutoloon  - de periode (maand en jaartal)  en het aantal halve dagen in te vullen. "]
["De looncode wordt automatisch opgezocht en moet niet zelf ingevuld worden."]
["Enkel de groene vakken invullen!"]
["Het donkergroene vak overnemen in het tabblad facturen "]
["Naam personeelslid","Voltijds brutoloon (5/5)","De overeenkomstige dagkost","Looncode",null,"maand + jaartal","aantal halve dagen in die maand gewerkt aan het project","In te brengen personeelskost"]
[]
["Christine Janssens",2500,{"$f":"IF(E12=0,+IF(B12=\"\",\"\",+IF(B12<2028.27,179.06,IF(B12>=2028.27,VLOOKUP(B12,'waarden lonen'!C:K,9,TRUE)))),VLOOKUP(E12,'waarden lonen'!loonwijzer,11))","v":206.77},{"$f":"IF(E12=0,+IF(C12=\"\",\"\",VLOOKUP(C12,'waarden lonen'!K:L,2,FALSE)),\"\")","v":"A001"},null,"feb'20",13,{"$f":"+IF(C12=\"\",\"\",(G12/2)*C12)","v":1344.0050000000001},"personeelslid wordt voor de eerste keer gedeclareerd"]
["Christine Janssens",2500,{"$f":"IF(E13=0,+IF(B13=\"\",\"\",+IF(B13<2028.27,179.06,IF(B13>=2028.27,VLOOKUP(B13,'waarden lonen'!C:K,9,TRUE)))),VLOOKUP(E13,'waarden lonen'!loonwijzer,11))","v":206.77},{"$f":"IF(E13=0,+IF(C13=\"\",\"\",VLOOKUP(C13,'waarden lonen'!K:L,2,FALSE)),\"\")","v":"A001"},null,"2020-08-01",10,1033.8500000000001]
[null,null,{"$f":"IF(E14=0,+IF(B14=\"\",\"\",+IF(B14<2028.27,179.06,IF(B14>=2028.27,VLOOKUP(B14,'waarden lonen'!C:K,9,TRUE)))),VLOOKUP(E14,'waarden lonen'!loonwijzer,11))","v":""},{"$f":"IF(E14=0,+IF(C14=\"\",\"\",VLOOKUP(C14,'waarden lonen'!K:L,2,FALSE)),\"\")","v":""},null,null,null,""]
[null,null,{"$f":"IF(E15=0,+IF(B15=\"\",\"\",+IF(B15<2028.27,179.06,IF(B15>=2028.27,VLOOKUP(B15,'waarden lonen'!C:K,9,TRUE)))),VLOOKUP(E15,'waarden lonen'!loonwijzer,11))","v":""},{"$f":"IF(E15=0,+IF(C15=\"\",\"\",VLOOKUP(C15,'waarden lonen'!K:L,2,FALSE)),\"\")","v":""},null,null,null,""]
[null,null,{"$f":"IF(E16=0,+IF(B16=\"\",\"\",+IF(B16<2028.27,179.06,IF(B16>=2028.27,VLOOKUP(B16,'waarden lonen'!C:K,9,TRUE)))),VLOOKUP(E16,'waarden lonen'!loonwijzer,11))","v":""},{"$f":"IF(E16=0,+IF(C16=\"\",\"\",VLOOKUP(C16,'waarden lonen'!K:L,2,FALSE)),\"\")","v":""},null,null,null,""]
[null,null,{"$f":"IF(E17=0,+IF(B17=\"\",\"\",+IF(B17<2028.27,179.06,IF(B17>=2028.27,VLOOKUP(B17,'waarden lonen'!C:K,9,TRUE)))),VLOOKUP(E17,'waarden lonen'!loonwijzer,11))","v":""},{"$f":"IF(E17=0,+IF(C17=\"\",\"\",VLOOKUP(C17,'waarden lonen'!K:L,2,FALSE)),\"\")","v":""},null,null,null,""]
[null,null,{"$f":"IF(E18=0,+IF(B18=\"\",\"\",+IF(B18<2028.27,179.06,IF(B18>=2028.27,VLOOKUP(B18,'waarden lonen'!C:K,9,TRUE)))),VLOOKUP(E18,'waarden lonen'!loonwijzer,11))","v":""},{"$f":"IF(E18=0,+IF(C18=\"\",\"\",VLOOKUP(C18,'waarden lonen'!K:L,2,FALSE)),\"\")","v":""},null,null,null,""]
["Totale loonkost - het totaal bedrag per persoon overnemen in de overzichtslijst met facturen / kosten",null,null,null,null,null,null,{"$f":"SUM(H12:H18)","v":2377.8550000000005}]
["Jan Janssens",2242.9899999999998,{"$f":"IF(E20=0,+IF(B20=\"\",\"\",+IF(B20<2028.27,179.06,IF(B20>=2028.27,VLOOKUP(B20,'waarden lonen'!C:K,9,TRUE)))),VLOOKUP(E20,'waarden lonen'!loonwijzer,11))","v":244.04},{"$f":"IF(E20=0,+IF(C20=\"\",\"\",VLOOKUP(C20,'waarden lonen'!K:L,2,FALSE)),\"\")","v":""},"A004","2020-07-01",8,{"$f":"+IF(C20=\"\",\"\",(G20/2)*C20)","v":976.16},"Personeelslid werd reeds gedeclareerd, gebruik de vorige looncode"]
[null,null,{"$f":"IF(E21=0,+IF(B21=\"\",\"\",+IF(B21<2028.27,179.06,IF(B21>=2028.27,VLOOKUP(B21,'waarden lonen'!C:K,9,TRUE)))),VLOOKUP(E21,'waarden lonen'!loonwijzer,11))","v":""},{"$f":"IF(E21=0,+IF(C21=\"\",\"\",VLOOKUP(C21,'waarden lonen'!K:L,2,FALSE)),\"\")","v":""},null,null,null,""]
[null,null,{"$f":"IF(E22=0,+IF(B22=\"\",\"\",+IF(B22<2028.27,179.06,IF(B22>=2028.27,VLOOKUP(B22,'waarden lonen'!C:K,9,TRUE)))),VLOOKUP(E22,'waarden lonen'!loonwijzer,11))","v":""},{"$f":"IF(E22=0,+IF(C22=\"\",\"\",VLOOKUP(C22,'waarden lonen'!K:L,2,FALSE)),\"\")","v":""},null,null,null,""]
[null,null,{"$f":"IF(E23=0,+IF(B23=\"\",\"\",+IF(B23<2028.27,179.06,IF(B23>=2028.27,VLOOKUP(B23,'waarden lonen'!C:K,9,TRUE)))),VLOOKUP(E23,'waarden lonen'!loonwijzer,11))","v":""},{"$f":"IF(E23=0,+IF(C23=\"\",\"\",VLOOKUP(C23,'waarden lonen'!K:L,2,FALSE)),\"\")","v":""},null,null,null,""]
[null,null,{"$f":"IF(E24=0,+IF(B24=\"\",\"\",+IF(B24<2028.27,179.06,IF(B24>=2028.27,VLOOKUP(B24,'waarden lonen'!C:K,9,TRUE)))),VLOOKUP(E24,'waarden lonen'!loonwijzer,11))","v":""},{"$f":"IF(E24=0,+IF(C24=\"\",\"\",VLOOKUP(C24,'waarden lonen'!K:L,2,FALSE)),\"\")","v":""},null,null,null,""]
[null,null,{"$f":"IF(E25=0,+IF(B25=\"\",\"\",+IF(B25<2028.27,179.06,IF(B25>=2028.27,VLOOKUP(B25,'waarden lonen'!C:K,9,TRUE)))),VLOOKUP(E25,'waarden lonen'!loonwijzer,11))","v":""},{"$f":"IF(E25=0,+IF(C25=\"\",\"\",VLOOKUP(C25,'waarden lonen'!K:L,2,FALSE)),\"\")","v":""},null,null,null,""]
[null,null,{"$f":"IF(E26=0,+IF(B26=\"\",\"\",+IF(B26<2028.27,179.06,IF(B26>=2028.27,VLOOKUP(B26,'waarden lonen'!C:K,9,TRUE)))),VLOOKUP(E26,'waarden lonen'!loonwijzer,11))","v":""},{"$f":"IF(E26=0,+IF(C26=\"\",\"\",VLOOKUP(C26,'waarden lonen'!K:L,2,FALSE)),\"\")","v":""},null,null,null,""]
["Totale loonkost - het totaal bedrag per persoon overnemen in de overzichtslijst met facturen / kosten",null,null,null,null,null,null,{"$f":"SUM(H20:H26)","v":976.16}]
[null,null,{"$f":"IF(E28=0,+IF(B28=\"\",\"\",+IF(B28<2028.27,179.06,IF(B28>=2028.27,VLOOKUP(B28,'waarden lonen'!C:K,9,TRUE)))),VLOOKUP(E28,'waarden lonen'!loonwijzer,11))","v":""},{"$f":"IF(E28=0,+IF(C28=\"\",\"\",VLOOKUP(C28,'waarden lonen'!K:L,2,FALSE)),\"\")","v":""},null,null,null,{"$f":"+IF(C28=\"\",\"\",(G28/2)*C28)","v":""}]
[null,null,{"$f":"IF(E29=0,+IF(B29=\"\",\"\",+IF(B29<2028.27,179.06,IF(B29>=2028.27,VLOOKUP(B29,'waarden lonen'!C:K,9,TRUE)))),VLOOKUP(E29,'waarden lonen'!loonwijzer,11))","v":""},{"$f":"IF(E29=0,+IF(C29=\"\",\"\",VLOOKUP(C29,'waarden lonen'!K:L,2,FALSE)),\"\")","v":""},null,null,null,""]
[null,null,{"$f":"IF(E30=0,+IF(B30=\"\",\"\",+IF(B30<2028.27,179.06,IF(B30>=2028.27,VLOOKUP(B30,'waarden lonen'!C:K,9,TRUE)))),VLOOKUP(E30,'waarden lonen'!loonwijzer,11))","v":""},{"$f":"IF(E30=0,+IF(C30=\"\",\"\",VLOOKUP(C30,'waarden lonen'!K:L,2,FALSE)),\"\")","v":""},null,null,null,""]
[null,null,{"$f":"IF(E31=0,+IF(B31=\"\",\"\",+IF(B31<2028.27,179.06,IF(B31>=2028.27,VLOOKUP(B31,'waarden lonen'!C:K,9,TRUE)))),VLOOKUP(E31,'waarden lonen'!loonwijzer,11))","v":""},{"$f":"IF(E31=0,+IF(C31=\"\",\"\",VLOOKUP(C31,'waarden lonen'!K:L,2,FALSE)),\"\")","v":""},null,null,null,""]
[null,null,{"$f":"IF(E32=0,+IF(B32=\"\",\"\",+IF(B32<2028.27,179.06,IF(B32>=2028.27,VLOOKUP(B32,'waarden lonen'!C:K,9,TRUE)))),VLOOKUP(E32,'waarden lonen'!loonwijzer,11))","v":""},{"$f":"IF(E32=0,+IF(C32=\"\",\"\",VLOOKUP(C32,'waarden lonen'!K:L,2,FALSE)),\"\")","v":""},null,null,null,""]
[null,null,{"$f":"IF(E33=0,+IF(B33=\"\",\"\",+IF(B33<2028.27,179.06,IF(B33>=2028.27,VLOOKUP(B33,'waarden lonen'!C:K,9,TRUE)))),VLOOKUP(E33,'waarden lonen'!loonwijzer,11))","v":""},{"$f":"IF(E33=0,+IF(C33=\"\",\"\",VLOOKUP(C33,'waarden lonen'!K:L,2,FALSE)),\"\")","v":""},null,null,null,""]
[null,null,{"$f":"IF(E34=0,+IF(B34=\"\",\"\",+IF(B34<2028.27,179.06,IF(B34>=2028.27,VLOOKUP(B34,'waarden lonen'!C:K,9,TRUE)))),VLOOKUP(E34,'waarden lonen'!loonwijzer,11))","v":""},{"$f":"IF(E34=0,+IF(C34=\"\",\"\",VLOOKUP(C34,'waarden lonen'!K:L,2,FALSE)),\"\")","v":""},null,null,null,""]
[null,null,{"$f":"IF(E35=0,+IF(B35=\"\",\"\",+IF(B35<2028.27,179.06,IF(B35>=2028.27,VLOOKUP(B35,'waarden lonen'!C:K,9,TRUE)))),VLOOKUP(E35,'waarden lonen'!loonwijzer,11))","v":""},{"$f":"IF(E35=0,+IF(C35=\"\",\"\",VLOOKUP(C35,'waarden lonen'!K:L,2,FALSE)),\"\")","v":""},null,null,null,""]
["Totale loonkost - het totaal bedrag per persoon overnemen in de overzichtslijst met facturen / kosten",null,null,null,null,null,null,{"$f":"SUM(H28:H35)","v":0}]
[null,null,{"$f":"IF(E37=0,+IF(B37=\"\",\"\",+IF(B37<2028.27,179.06,IF(B37>=2028.27,VLOOKUP(B37,'waarden lonen'!C:K,9,TRUE)))),VLOOKUP(E37,'waarden lonen'!loonwijzer,11))","v":""},{"$f":"IF(E37=0,+IF(C37=\"\",\"\",VLOOKUP(C37,'waarden lonen'!K:L,2,FALSE)),\"\")","v":""},null,null,null,{"$f":"+IF(C37=\"\",\"\",(G37/2)*C37)","v":""}]
[null,null,{"$f":"IF(E38=0,+IF(B38=\"\",\"\",+IF(B38<2028.27,179.06,IF(B38>=2028.27,VLOOKUP(B38,'waarden lonen'!C:K,9,TRUE)))),VLOOKUP(E38,'waarden lonen'!loonwijzer,11))","v":""},{"$f":"IF(E38=0,+IF(C38=\"\",\"\",VLOOKUP(C38,'waarden lonen'!K:L,2,FALSE)),\"\")","v":""},null,null,null,""]
[null,null,{"$f":"IF(E39=0,+IF(B39=\"\",\"\",+IF(B39<2028.27,179.06,IF(B39>=2028.27,VLOOKUP(B39,'waarden lonen'!C:K,9,TRUE)))),VLOOKUP(E39,'waarden lonen'!loonwijzer,11))","v":""},{"$f":"IF(E39=0,+IF(C39=\"\",\"\",VLOOKUP(C39,'waarden lonen'!K:L,2,FALSE)),\"\")","v":""},null,null,null,""]
[null,null,{"$f":"IF(E40=0,+IF(B40=\"\",\"\",+IF(B40<2028.27,179.06,IF(B40>=2028.27,VLOOKUP(B40,'waarden lonen'!C:K,9,TRUE)))),VLOOKUP(E40,'waarden lonen'!loonwijzer,11))","v":""},{"$f":"IF(E40=0,+IF(C40=\"\",\"\",VLOOKUP(C40,'waarden lonen'!K:L,2,FALSE)),\"\")","v":""},null,null,null,""]
[null,null,{"$f":"IF(E41=0,+IF(B41=\"\",\"\",+IF(B41<2028.27,179.06,IF(B41>=2028.27,VLOOKUP(B41,'waarden lonen'!C:K,9,TRUE)))),VLOOKUP(E41,'waarden lonen'!loonwijzer,11))","v":""},{"$f":"IF(E41=0,+IF(C41=\"\",\"\",VLOOKUP(C41,'waarden lonen'!K:L,2,FALSE)),\"\")","v":""},null,null,null,""]
[null,null,{"$f":"IF(E42=0,+IF(B42=\"\",\"\",+IF(B42<2028.27,179.06,IF(B42>=2028.27,VLOOKUP(B42,'waarden lonen'!C:K,9,TRUE)))),VLOOKUP(E42,'waarden lonen'!loonwijzer,11))","v":""},{"$f":"IF(E42=0,+IF(C42=\"\",\"\",VLOOKUP(C42,'waarden lonen'!K:L,2,FALSE)),\"\")","v":""},null,null,null,""]
[null,null,{"$f":"IF(E43=0,+IF(B43=\"\",\"\",+IF(B43<2028.27,179.06,IF(B43>=2028.27,VLOOKUP(B43,'waarden lonen'!C:K,9,TRUE)))),VLOOKUP(E43,'waarden lonen'!loonwijzer,11))","v":""},{"$f":"IF(E43=0,+IF(C43=\"\",\"\",VLOOKUP(C43,'waarden lonen'!K:L,2,FALSE)),\"\")","v":""},null,null,null,""]
["Totale loonkost - het totaal bedrag per persoon overnemen in de overzichtslijst met facturen / kosten",null,null,null,null,null,null,{"$f":"SUM(H37:H43)","v":0}]
[null,null,{"$f":"IF(E45=0,+IF(B45=\"\",\"\",+IF(B45<2028.27,179.06,IF(B45>=2028.27,VLOOKUP(B45,'waarden lonen'!C:K,9,TRUE)))),VLOOKUP(E45,'waarden lonen'!loonwijzer,11))","v":""},{"$f":"IF(E45=0,+IF(C45=\"\",\"\",VLOOKUP(C45,'waarden lonen'!K:L,2,FALSE)),\"\")","v":""},null,null,null,{"$f":"+IF(C45=\"\",\"\",(G45/2)*C45)","v":""}]
[null,null,{"$f":"IF(E46=0,+IF(B46=\"\",\"\",+IF(B46<2028.27,179.06,IF(B46>=2028.27,VLOOKUP(B46,'waarden lonen'!C:K,9,TRUE)))),VLOOKUP(E46,'waarden lonen'!loonwijzer,11))","v":""},{"$f":"IF(E46=0,+IF(C46=\"\",\"\",VLOOKUP(C46,'waarden lonen'!K:L,2,FALSE)),\"\")","v":""},null,null,null,""]
[null,null,{"$f":"IF(E47=0,+IF(B47=\"\",\"\",+IF(B47<2028.27,179.06,IF(B47>=2028.27,VLOOKUP(B47,'waarden lonen'!C:K,9,TRUE)))),VLOOKUP(E47,'waarden lonen'!loonwijzer,11))","v":""},{"$f":"IF(E47=0,+IF(C47=\"\",\"\",VLOOKUP(C47,'waarden lonen'!K:L,2,FALSE)),\"\")","v":""},null,null,null,""]
[null,null,{"$f":"IF(E48=0,+IF(B48=\"\",\"\",+IF(B48<2028.27,179.06,IF(B48>=2028.27,VLOOKUP(B48,'waarden lonen'!C:K,9,TRUE)))),VLOOKUP(E48,'waarden lonen'!loonwijzer,11))","v":""},{"$f":"IF(E48=0,+IF(C48=\"\",\"\",VLOOKUP(C48,'waarden lonen'!K:L,2,FALSE)),\"\")","v":""},null,null,null,""]
[null,null,{"$f":"IF(E49=0,+IF(B49=\"\",\"\",+IF(B49<2028.27,179.06,IF(B49>=2028.27,VLOOKUP(B49,'waarden lonen'!C:K,9,TRUE)))),VLOOKUP(E49,'waarden lonen'!loonwijzer,11))","v":""},{"$f":"IF(E49=0,+IF(C49=\"\",\"\",VLOOKUP(C49,'waarden lonen'!K:L,2,FALSE)),\"\")","v":""},null,null,null,""]
[null,null,{"$f":"IF(E50=0,+IF(B50=\"\",\"\",+IF(B50<2028.27,179.06,IF(B50>=2028.27,VLOOKUP(B50,'waarden lonen'!C:K,9,TRUE)))),VLOOKUP(E50,'waarden lonen'!loonwijzer,11))","v":""},{"$f":"IF(E50=0,+IF(C50=\"\",\"\",VLOOKUP(C50,'waarden lonen'!K:L,2,FALSE)),\"\")","v":""},null,null,null,""]
[null,null,{"$f":"IF(E51=0,+IF(B51=\"\",\"\",+IF(B51<2028.27,179.06,IF(B51>=2028.27,VLOOKUP(B51,'waarden lonen'!C:K,9,TRUE)))),VLOOKUP(E51,'waarden lonen'!loonwijzer,11))","v":""},{"$f":"IF(E51=0,+IF(C51=\"\",\"\",VLOOKUP(C51,'waarden lonen'!K:L,2,FALSE)),\"\")","v":""},null,null,null,""]
["Totale loonkost - het totaal bedrag per persoon overnemen in de overzichtslijst met facturen / kosten",null,null,null,null,null,null,{"$f":"SUM(H45:H51)","v":0}]
[null,null,{"$f":"IF(E53=0,+IF(B53=\"\",\"\",+IF(B53<2028.27,179.06,IF(B53>=2028.27,VLOOKUP(B53,'waarden lonen'!C:K,9,TRUE)))),VLOOKUP(E53,'waarden lonen'!loonwijzer,11))","v":""},{"$f":"IF(E53=0,+IF(C53=\"\",\"\",VLOOKUP(C53,'waarden lonen'!K:L,2,FALSE)),\"\")","v":""},null,null,null,{"$f":"+IF(C53=\"\",\"\",(G53/2)*C53)","v":""}]
[null,null,{"$f":"IF(E54=0,+IF(B54=\"\",\"\",+IF(B54<2028.27,179.06,IF(B54>=2028.27,VLOOKUP(B54,'waarden lonen'!C:K,9,TRUE)))),VLOOKUP(E54,'waarden lonen'!loonwijzer,11))","v":""},{"$f":"IF(E54=0,+IF(C54=\"\",\"\",VLOOKUP(C54,'waarden lonen'!K:L,2,FALSE)),\"\")","v":""},null,null,null,""]
[null,null,{"$f":"IF(E55=0,+IF(B55=\"\",\"\",+IF(B55<2028.27,179.06,IF(B55>=2028.27,VLOOKUP(B55,'waarden lonen'!C:K,9,TRUE)))),VLOOKUP(E55,'waarden lonen'!loonwijzer,11))","v":""},{"$f":"IF(E55=0,+IF(C55=\"\",\"\",VLOOKUP(C55,'waarden lonen'!K:L,2,FALSE)),\"\")","v":""},null,null,null,""]
[null,null,{"$f":"IF(E56=0,+IF(B56=\"\",\"\",+IF(B56<2028.27,179.06,IF(B56>=2028.27,VLOOKUP(B56,'waarden lonen'!C:K,9,TRUE)))),VLOOKUP(E56,'waarden lonen'!loonwijzer,11))","v":""},{"$f":"IF(E56=0,+IF(C56=\"\",\"\",VLOOKUP(C56,'waarden lonen'!K:L,2,FALSE)),\"\")","v":""},null,null,null,""]
[null,null,{"$f":"IF(E57=0,+IF(B57=\"\",\"\",+IF(B57<2028.27,179.06,IF(B57>=2028.27,VLOOKUP(B57,'waarden lonen'!C:K,9,TRUE)))),VLOOKUP(E57,'waarden lonen'!loonwijzer,11))","v":""},{"$f":"IF(E57=0,+IF(C57=\"\",\"\",VLOOKUP(C57,'waarden lonen'!K:L,2,FALSE)),\"\")","v":""},null,null,null,""]
[null,null,{"$f":"IF(E58=0,+IF(B58=\"\",\"\",+IF(B58<2028.27,179.06,IF(B58>=2028.27,VLOOKUP(B58,'waarden lonen'!C:K,9,TRUE)))),VLOOKUP(E58,'waarden lonen'!loonwijzer,11))","v":""},{"$f":"IF(E58=0,+IF(C58=\"\",\"\",VLOOKUP(C58,'waarden lonen'!K:L,2,FALSE)),\"\")","v":""},null,null,null,""]
[null,null,{"$f":"IF(E59=0,+IF(B59=\"\",\"\",+IF(B59<2028.27,179.06,IF(B59>=2028.27,VLOOKUP(B59,'waarden lonen'!C:K,9,TRUE)))),VLOOKUP(E59,'waarden lonen'!loonwijzer,11))","v":""},{"$f":"IF(E59=0,+IF(C59=\"\",\"\",VLOOKUP(C59,'waarden lonen'!K:L,2,FALSE)),\"\")","v":""},null,null,null,""]
[null,null,{"$f":"IF(E60=0,+IF(B60=\"\",\"\",+IF(B60<2028.27,179.06,IF(B60>=2028.27,VLOOKUP(B60,'waarden lonen'!C:K,9,TRUE)))),VLOOKUP(E60,'waarden lonen'!loonwijzer,11))","v":""},{"$f":"IF(E60=0,+IF(C60=\"\",\"\",VLOOKUP(C60,'waarden lonen'!K:L,2,FALSE)),\"\")","v":""},null,null,null,""]
["Totale loonkost - het totaal bedrag per persoon overnemen in de overzichtslijst met facturen / kosten",null,null,null,null,null,null,{"$f":"SUM(H53:H60)","v":0}]
[]
["Motivatie afwijkende looncode"]
["Naam personeelslid","Motivatie"]
["Jan Janssens","toe te voegen"]

{"sheet":".","index":7,"n_rows":26,"n_cols":5,"rows_kept":26,"cut":false,"hidden":false,"merged":[]}
[]
[null,null,null,null,"json"]
[null,null,"Investeringskosten",null,"{"]
[null,null,"Personeelskosten",null,"\""]
[null,null,"Werkingskosten",null,":"]
[null,null,"Externe prestaties",null,"}"]
[null,null,"Bijdrage in natura",null,","]
[null,null,"Inkomsten",null,"["]
[null,null,null,null,"]"]
[]
[]
[]
[]
[]
[null,null,{"$f":"'In te vullen voorblad'!B19","v":"XXXXX"}]
[null,null,{"$f":"'In te vullen voorblad'!B28","v":"……………………………………"}]
[null,null,{"$f":"'In te vullen voorblad'!B29","v":"……………………………………"}]
[null,null,{"$f":"'In te vullen voorblad'!B30","v":"……………………………………"}]
[null,null,{"$f":"'In te vullen voorblad'!B31","v":"……………………………………"}]
[null,null,{"$f":"'In te vullen voorblad'!B32","v":"……………………………………"}]
[]
[]
[]
[]
[]
[null,null,null,null,"{\"VolgNummer\":\"1\",\"\":\"\"\"Leverancier\":\"\"\"Onderwerp\":\"A007\"\"Factuurdatum\":\"jan-jun 2018\"\"TotaalBedrag\":\"137,772\"\"MeetelPercentage\":\"1\"\"AangevraagdProjectbedrag\":\"137,772\"\"KostenCategorie\":\"Personeelskost\"\"Promotor\":\"Plattelandscentrum Meetjesland vzw\"\"CofinancieringPercentage\":\"0,65\"\"TotaleCofinanciering\":\"89,5518\"}"]